BEGIN:VCALENDAR
VERSION:2.0
PRODID:-//UMI .:: Coopération ::.
CALSCALE:GREGORIAN
METHOD:PUBLISH
X-WR-CALNAME:UMI .:: Coopération ::.
X-ORIGINAL-URL:https://iro.umi.ac.ma/bourse/%d9%85%d9%86%d8%ad-%d8%af%d8%b1%d8%a7%d8%b3%d9%8a%d8%a9-%d9%85%d9%82%d8%af%d9%85%d8%a9-%d9%85%d9%86-%d8%a7%d9%84%d8%ad%d9%83%d9%88%d9%85%d8%a9-%d8%a7%d9%84%d9%85%d8%b5%d8%b1%d9%8a%d8%a9/
X-WR-CALDESC:منح دراسية مقدمة من الحكومة المصرية
BEGIN:VEVENT
DTSTART:20230901T000000
DTEND:
SUMMARY:منح دراسية مقدمة من الحكومة المصرية
DESCRIPTION:
LOCATION:
END:VEVENT
END:VCALENDAR
