BEGIN:VCALENDAR
VERSION:2.0
PRODID:-//UMI .:: Coopération ::.
CALSCALE:GREGORIAN
METHOD:PUBLISH
X-WR-CALNAME:UMI .:: Coopération ::.
X-ORIGINAL-URL:https://iro.umi.ac.ma/bourse/appel-a-candidatures-pour-des-sejours-scientifiques-au-sein-dun-laboratoire-francais/
X-WR-CALDESC:Appel à candidatures pour des séjours scientifiques au sein d’un laboratoire français
BEGIN:VEVENT
DTSTART:20230423T000000
DTEND:
SUMMARY:Appel à candidatures pour des séjours scientifiques au sein d’un laboratoire français
DESCRIPTION:
LOCATION:
END:VEVENT
END:VCALENDAR
