BEGIN:VCALENDAR
VERSION:2.0
PRODID:-//UMI .:: Coopération ::.
CALSCALE:GREGORIAN
METHOD:PUBLISH
X-WR-CALNAME:UMI .:: Coopération ::.
X-ORIGINAL-URL:https://iro.umi.ac.ma/bourse/bourses-detudes-aux-etudiants-marocains-en-russie-au-titre-de-lannee-2023-2024/
X-WR-CALDESC:100 Bourses d&rsquo;études aux étudiants marocains en Russie au titre de l&rsquo;année 2023-2024
BEGIN:VEVENT
DTSTART:20230220T000000
DTEND:
SUMMARY:100 Bourses d&rsquo;études aux étudiants marocains en Russie au titre de l&rsquo;année 2023-2024
DESCRIPTION:
LOCATION:
END:VEVENT
END:VCALENDAR
